BEGIN:VCALENDAR
VERSION:2.0
PRODID:-//PCF Preschool - ECPv6.15.1.1//NONSGML v1.0//EN
CALSCALE:GREGORIAN
METHOD:PUBLISH
X-ORIGINAL-URL:https://pcfpreschool.co.uk
X-WR-CALDESC:Events for PCF Preschool
REFRESH-INTERVAL;VALUE=DURATION:PT1H
X-Robots-Tag:noindex
X-PUBLISHED-TTL:PT1H
BEGIN:VTIMEZONE
TZID:UTC
BEGIN:STANDARD
TZOFFSETFROM:+0000
TZOFFSETTO:+0000
TZNAME:UTC
DTSTART:20260101T000000
END:STANDARD
END:VTIMEZONE
BEGIN:VEVENT
DTSTART;VALUE=DATE:20260213
DTEND;VALUE=DATE:20260214
DTSTAMP:20260423T180803
CREATED:20250527T173351Z
LAST-MODIFIED:20250527T175809Z
UID:15568-1770940800-1771027199@pcfpreschool.co.uk
SUMMARY:Term 3 Ends
DESCRIPTION:It’s the last day of term 3 for our preschool children.  We hope that you have enjoyed the term!
URL:https://pcfpreschool.co.uk/event/term-3-ends-2/
CATEGORIES:Family
ATTACH;FMTTYPE=image/jpeg:https://pcfpreschool.co.uk/wp-content/uploads/2024/09/2.jpg
END:VEVENT
BEGIN:VEVENT
DTSTART;VALUE=DATE:20260216
DTEND;VALUE=DATE:20260221
DTSTAMP:20260423T180803
CREATED:20250527T174606Z
LAST-MODIFIED:20250527T174606Z
UID:15588-1771200000-1771631999@pcfpreschool.co.uk
SUMMARY:Half Term
DESCRIPTION:
URL:https://pcfpreschool.co.uk/event/half-term-9/
CATEGORIES:Family
ATTACH;FMTTYPE=image/jpeg:https://pcfpreschool.co.uk/wp-content/uploads/2023/01/No-school.jpg
END:VEVENT
BEGIN:VEVENT
DTSTART;VALUE=DATE:20260224
DTEND;VALUE=DATE:20260225
DTSTAMP:20260423T180803
CREATED:20250527T173509Z
LAST-MODIFIED:20250527T175218Z
UID:15570-1771891200-1771977599@pcfpreschool.co.uk
SUMMARY:Term 4 Begins
DESCRIPTION:We welcome our preschool children back for Term 4!
URL:https://pcfpreschool.co.uk/event/term-4-begins/
CATEGORIES:Family
ATTACH;FMTTYPE=image/jpeg:https://pcfpreschool.co.uk/wp-content/uploads/2024/09/1.jpg
END:VEVENT
END:VCALENDAR