BEGIN:VCALENDAR
VERSION:2.0
PRODID:-//PCF Preschool - ECPv6.15.1.1//NONSGML v1.0//EN
CALSCALE:GREGORIAN
METHOD:PUBLISH
X-WR-CALNAME:PCF Preschool
X-ORIGINAL-URL:https://pcfpreschool.co.uk
X-WR-CALDESC:Events for PCF Preschool
REFRESH-INTERVAL;VALUE=DURATION:PT1H
X-Robots-Tag:noindex
X-PUBLISHED-TTL:PT1H
BEGIN:VTIMEZONE
TZID:UTC
BEGIN:STANDARD
TZOFFSETFROM:+0000
TZOFFSETTO:+0000
TZNAME:UTC
DTSTART:20230101T000000
END:STANDARD
END:VTIMEZONE
BEGIN:VEVENT
DTSTART;VALUE=DATE:20250214
DTEND;VALUE=DATE:20250215
DTSTAMP:20260424T000340
CREATED:20240906T125209Z
LAST-MODIFIED:20240907T083101Z
UID:15343-1739491200-1739577599@pcfpreschool.co.uk
SUMMARY:Term 3 ends
DESCRIPTION:It’s the last day of Term 3 for the children today!  We hope that you have had a lovely Term 3!
URL:https://pcfpreschool.co.uk/event/term-3-ends/
CATEGORIES:Family
ATTACH;FMTTYPE=image/jpeg:https://pcfpreschool.co.uk/wp-content/uploads/2024/09/2.jpg
END:VEVENT
BEGIN:VEVENT
DTSTART;VALUE=DATE:20250106
DTEND;VALUE=DATE:20250107
DTSTAMP:20260424T000340
CREATED:20240906T125137Z
LAST-MODIFIED:20240907T083012Z
UID:15340-1736121600-1736207999@pcfpreschool.co.uk
SUMMARY:Term 3 starts
DESCRIPTION:Term 3 starts today!  We hope that you have had a great Christmas break!
URL:https://pcfpreschool.co.uk/event/term-3-starts/
CATEGORIES:Family
ATTACH;FMTTYPE=image/jpeg:https://pcfpreschool.co.uk/wp-content/uploads/2024/09/1.jpg
END:VEVENT
BEGIN:VEVENT
DTSTART;VALUE=DATE:20241219
DTEND;VALUE=DATE:20250104
DTSTAMP:20260424T000340
CREATED:20240906T125058Z
LAST-MODIFIED:20240907T082926Z
UID:15338-1734566400-1735948799@pcfpreschool.co.uk
SUMMARY:Christmas Holiday
DESCRIPTION:Wishing our preschool families a Merry Christmas and Happy New Year! \nChildren will break up from preschool on Thursday 19th December.  We welcome them back into preschool on Monday 6th January 2025. \nAll dates are subject to change – as much notice as possible will always be provided for date changes.
URL:https://pcfpreschool.co.uk/event/christmas-holiday-2/
CATEGORIES:Family
ATTACH;FMTTYPE=image/jpeg:https://pcfpreschool.co.uk/wp-content/uploads/2023/02/xmas.jpg
END:VEVENT
BEGIN:VEVENT
DTSTART;VALUE=DATE:20241218
DTEND;VALUE=DATE:20241219
DTSTAMP:20260424T000340
CREATED:20240906T124941Z
LAST-MODIFIED:20240907T082723Z
UID:15336-1734480000-1734566399@pcfpreschool.co.uk
SUMMARY:Term 2 ends
DESCRIPTION:This is the last day for the children in term 2!  We hope that you have had the best time in term 2!
URL:https://pcfpreschool.co.uk/event/term-2-ends/
CATEGORIES:Family
ATTACH;FMTTYPE=image/jpeg:https://pcfpreschool.co.uk/wp-content/uploads/2024/09/2.jpg
END:VEVENT
BEGIN:VEVENT
DTSTART;VALUE=DATE:20241028
DTEND;VALUE=DATE:20241029
DTSTAMP:20260424T000340
CREATED:20240906T124859Z
LAST-MODIFIED:20240907T082637Z
UID:15334-1730073600-1730159999@pcfpreschool.co.uk
SUMMARY:Term 2 starts
DESCRIPTION:Welcoming children back for term 2!  We hope that you had a great half term!
URL:https://pcfpreschool.co.uk/event/term-2-starts/
CATEGORIES:Family
ATTACH;FMTTYPE=image/jpeg:https://pcfpreschool.co.uk/wp-content/uploads/2024/09/1.jpg
END:VEVENT
BEGIN:VEVENT
DTSTART;VALUE=DATE:20241021
DTEND;VALUE=DATE:20241026
DTSTAMP:20260424T000340
CREATED:20240906T124818Z
LAST-MODIFIED:20240907T082545Z
UID:15332-1729468800-1729900799@pcfpreschool.co.uk
SUMMARY:Half term
DESCRIPTION:It’s October half term!  Enjoy your half term and remember to post pictures onto Tapestry!
URL:https://pcfpreschool.co.uk/event/half-term-5/
CATEGORIES:Family
ATTACH;FMTTYPE=image/jpeg:https://pcfpreschool.co.uk/wp-content/uploads/2023/01/No-school.jpg
END:VEVENT
BEGIN:VEVENT
DTSTART;VALUE=DATE:20241018
DTEND;VALUE=DATE:20241019
DTSTAMP:20260424T000340
CREATED:20240906T124738Z
LAST-MODIFIED:20240907T082441Z
UID:15330-1729209600-1729295999@pcfpreschool.co.uk
SUMMARY:Term 1 Ends
DESCRIPTION:This is the last day of Term 1 for the children before Half term!
URL:https://pcfpreschool.co.uk/event/term-ends/
CATEGORIES:Family
ATTACH;FMTTYPE=image/jpeg:https://pcfpreschool.co.uk/wp-content/uploads/2024/09/2.jpg
END:VEVENT
BEGIN:VEVENT
DTSTART;VALUE=DATE:20241003
DTEND;VALUE=DATE:20241005
DTSTAMP:20260424T000340
CREATED:20240906T130048Z
LAST-MODIFIED:20240907T082344Z
UID:15363-1727913600-1728086399@pcfpreschool.co.uk
SUMMARY:Pre-school photographer
DESCRIPTION:Pre-school photographer – will be given the opportunity to have their photographs taken. Details to follow closer \nto the time.
URL:https://pcfpreschool.co.uk/event/pre-school-photographer/
CATEGORIES:Family
ATTACH;FMTTYPE=image/jpeg:https://pcfpreschool.co.uk/wp-content/uploads/2023/09/AdobeStock_148407238-scaled.jpeg
END:VEVENT
BEGIN:VEVENT
DTSTART;VALUE=DATE:20240905
DTEND;VALUE=DATE:20240906
DTSTAMP:20260424T000340
CREATED:20240905T124547Z
LAST-MODIFIED:20240907T082204Z
UID:15328-1725494400-1725580799@pcfpreschool.co.uk
SUMMARY:Term 1 Starts
DESCRIPTION:Term 1 starts today!  Welcoming the children back into preschool!
URL:https://pcfpreschool.co.uk/event/term-starts/
CATEGORIES:Family
ATTACH;FMTTYPE=image/jpeg:https://pcfpreschool.co.uk/wp-content/uploads/2024/09/1.jpg
END:VEVENT
BEGIN:VEVENT
DTSTART;VALUE=DATE:20240718
DTEND;VALUE=DATE:20240720
DTSTAMP:20260424T000340
CREATED:20230214T140508Z
LAST-MODIFIED:20230809T085310Z
UID:14859-1721260800-1721433599@pcfpreschool.co.uk
SUMMARY:Staff inset day
DESCRIPTION:Children will finish preschool for the summer holidays on Thursday 18th July 2024. \nAll dates are subject to change – as much notice as possible will always be provided for date changes.
URL:https://pcfpreschool.co.uk/event/staff-inset-day-4/
CATEGORIES:Family
ATTACH;FMTTYPE=image/jpeg:https://pcfpreschool.co.uk/wp-content/uploads/2023/01/No-school.jpg
END:VEVENT
BEGIN:VEVENT
DTSTART;VALUE=DATE:20240603
DTEND;VALUE=DATE:20240604
DTSTAMP:20260424T000340
CREATED:20230214T140352Z
LAST-MODIFIED:20230214T141454Z
UID:14857-1717372800-1717459199@pcfpreschool.co.uk
SUMMARY:Staff inset day
DESCRIPTION:All dates are subject to change – as much notice as possible will always be provided for date changes.
URL:https://pcfpreschool.co.uk/event/staff-inset-day-3/
CATEGORIES:Family
ATTACH;FMTTYPE=image/jpeg:https://pcfpreschool.co.uk/wp-content/uploads/2023/01/No-school.jpg
END:VEVENT
BEGIN:VEVENT
DTSTART;VALUE=DATE:20240527
DTEND;VALUE=DATE:20240601
DTSTAMP:20260424T000340
CREATED:20230214T140313Z
LAST-MODIFIED:20230214T141430Z
UID:14855-1716768000-1717199999@pcfpreschool.co.uk
SUMMARY:Half Term
DESCRIPTION:The last day for the children this term will be Friday 24th May 2024.  We welcome them back into the setting on Tuesday 4th June 2024. \nAll dates are subject to change – as much notice as possible will always be provided for date changes.
URL:https://pcfpreschool.co.uk/event/half-term-4/
CATEGORIES:Family
ATTACH;FMTTYPE=image/jpeg:https://pcfpreschool.co.uk/wp-content/uploads/2023/01/AdobeStock_84963329-scaled.jpeg
END:VEVENT
BEGIN:VEVENT
DTSTART;VALUE=DATE:20240506
DTEND;VALUE=DATE:20240507
DTSTAMP:20260424T000340
CREATED:20230214T140227Z
LAST-MODIFIED:20230214T141319Z
UID:14853-1714953600-1715039999@pcfpreschool.co.uk
SUMMARY:Bank Holiday
DESCRIPTION:All dates are subject to change – as much notice as possible will always be provided for date changes.
URL:https://pcfpreschool.co.uk/event/bank-holiday-3/
CATEGORIES:Family
ATTACH;FMTTYPE=image/jpeg:https://pcfpreschool.co.uk/wp-content/uploads/2023/01/No-school.jpg
END:VEVENT
BEGIN:VEVENT
DTSTART;VALUE=DATE:20240329
DTEND;VALUE=DATE:20240413
DTSTAMP:20260424T000340
CREATED:20230214T140127Z
LAST-MODIFIED:20230214T141536Z
UID:14851-1711670400-1712966399@pcfpreschool.co.uk
SUMMARY:Easter break
DESCRIPTION:The last day for the children this term will be Thursday 28th March 2024.  We welcome them back into the setting on Monday 15th April 2024. \nAll dates are subject to change – as much notice as possible will always be provided for date changes.
URL:https://pcfpreschool.co.uk/event/easter-break/
CATEGORIES:Family
ATTACH;FMTTYPE=image/jpeg:https://pcfpreschool.co.uk/wp-content/uploads/2023/01/AdobeStock_84963329-scaled.jpeg
END:VEVENT
BEGIN:VEVENT
DTSTART;VALUE=DATE:20240219
DTEND;VALUE=DATE:20240220
DTSTAMP:20260424T000340
CREATED:20230214T140015Z
LAST-MODIFIED:20230214T141142Z
UID:14849-1708300800-1708387199@pcfpreschool.co.uk
SUMMARY:Staff inset day
DESCRIPTION:All dates are subject to change – as much notice as possible will always be provided for date changes.
URL:https://pcfpreschool.co.uk/event/staff-inset-day-2/
CATEGORIES:Family
ATTACH;FMTTYPE=image/jpeg:https://pcfpreschool.co.uk/wp-content/uploads/2023/01/No-school.jpg
END:VEVENT
BEGIN:VEVENT
DTSTART;VALUE=DATE:20240212
DTEND;VALUE=DATE:20240217
DTSTAMP:20260424T000340
CREATED:20230214T135809Z
LAST-MODIFIED:20230214T141553Z
UID:14847-1707696000-1708127999@pcfpreschool.co.uk
SUMMARY:Half Term
DESCRIPTION:The last day for the children this term will be Friday 9th February 2024.  We welcome them back into the setting on Tuesday 20th February 2024. \nAll dates are subject to change – as much notice as possible will always be provided for date changes.
URL:https://pcfpreschool.co.uk/event/half-term-3/
CATEGORIES:Family
ATTACH;FMTTYPE=image/jpeg:https://pcfpreschool.co.uk/wp-content/uploads/2023/01/AdobeStock_84963329-scaled.jpeg
END:VEVENT
BEGIN:VEVENT
DTSTART;VALUE=DATE:20240115
DTEND;VALUE=DATE:20240116
DTSTAMP:20260424T000340
CREATED:20230926T150957Z
LAST-MODIFIED:20230926T150957Z
UID:15159-1705276800-1705363199@pcfpreschool.co.uk
SUMMARY:Primary School Applications Deadline!
DESCRIPTION:Primary school applications must be submitted by 5pm today. Schools are now publishing their dates for open days\, all information will be found at their websites.
URL:https://pcfpreschool.co.uk/event/primary-school-applications-deadline/
ATTACH;FMTTYPE=image/jpeg:https://pcfpreschool.co.uk/wp-content/uploads/2023/09/AdobeStock_318553827-scaled.jpeg
END:VEVENT
BEGIN:VEVENT
DTSTART;VALUE=DATE:20231218
DTEND;VALUE=DATE:20240104
DTSTAMP:20260424T000340
CREATED:20230214T135615Z
LAST-MODIFIED:20230214T140800Z
UID:14844-1702857600-1704326399@pcfpreschool.co.uk
SUMMARY:Christmas Holiday
DESCRIPTION:Children will break up from preschool on Friday 15th December.  We welcome them back into preschool on Thursday 4th January 2024. \nAll dates are subject to change – as much notice as possible will always be provided for date changes.
URL:https://pcfpreschool.co.uk/event/christmas-holiday/
CATEGORIES:Family
ATTACH;FMTTYPE=image/jpeg:https://pcfpreschool.co.uk/wp-content/uploads/2023/02/xmas.jpg
END:VEVENT
BEGIN:VEVENT
DTSTART;VALUE=DATE:20231023
DTEND;VALUE=DATE:20231028
DTSTAMP:20260424T000340
CREATED:20230214T135153Z
LAST-MODIFIED:20230809T084953Z
UID:14842-1698019200-1698451199@pcfpreschool.co.uk
SUMMARY:Half Term
DESCRIPTION:The last day for the children this term will be Friday 20th October 2023.  We welcome them back into the setting on Monday 30th October 2023. \nAll dates are subject to change – as much notice as possible will always be provided for date changes.
URL:https://pcfpreschool.co.uk/event/half-term/
CATEGORIES:Family
ATTACH;FMTTYPE=image/jpeg:https://pcfpreschool.co.uk/wp-content/uploads/2023/01/AdobeStock_84963329-scaled.jpeg
END:VEVENT
BEGIN:VEVENT
DTSTART;VALUE=DATE:20231019
DTEND;VALUE=DATE:20231020
DTSTAMP:20260424T000340
CREATED:20230926T150545Z
LAST-MODIFIED:20230926T150545Z
UID:15156-1697673600-1697759999@pcfpreschool.co.uk
SUMMARY:Parent Consultation Form
DESCRIPTION:Parent consultation forms are to be returned\, if you wish to have a parent consultation phone call. (further information will be sent via email).
URL:https://pcfpreschool.co.uk/event/parent-consultation-form/
ATTACH;FMTTYPE=image/jpeg:https://pcfpreschool.co.uk/wp-content/uploads/2023/09/AdobeStock_429015029-scaled.jpeg
END:VEVENT
BEGIN:VEVENT
DTSTART;VALUE=DATE:20231009
DTEND;VALUE=DATE:20231010
DTSTAMP:20260424T000340
CREATED:20230926T145847Z
LAST-MODIFIED:20230926T145847Z
UID:15154-1696809600-1696895999@pcfpreschool.co.uk
SUMMARY:Preschool Photographer
DESCRIPTION:The Preschool photographer will be in\, we will focus on our Squirrel room\, plus any Big Robin room children that wish to join us for these photographs.
URL:https://pcfpreschool.co.uk/event/preschool-photographer-2/
ATTACH;FMTTYPE=image/jpeg:https://pcfpreschool.co.uk/wp-content/uploads/2023/09/AdobeStock_148407238-scaled.jpeg
END:VEVENT
BEGIN:VEVENT
DTSTART;VALUE=DATE:20231006
DTEND;VALUE=DATE:20231007
DTSTAMP:20260424T000340
CREATED:20230926T145803Z
LAST-MODIFIED:20230926T145803Z
UID:15151-1696550400-1696636799@pcfpreschool.co.uk
SUMMARY:Preschool Photographer
DESCRIPTION:Preschool photographer will be in today\, we will focus on our Big Robin room\, plus any Little Robin room children that wish to join us for these photographs.
URL:https://pcfpreschool.co.uk/event/preschool-photographer/
ATTACH;FMTTYPE=image/jpeg:https://pcfpreschool.co.uk/wp-content/uploads/2023/09/AdobeStock_148407238-scaled.jpeg
END:VEVENT
BEGIN:VEVENT
DTSTART;VALUE=DATE:20231006
DTEND;VALUE=DATE:20231007
DTSTAMP:20260424T000340
CREATED:20230926T145523Z
LAST-MODIFIED:20230926T145523Z
UID:15148-1696550400-1696636799@pcfpreschool.co.uk
SUMMARY:Completed Christmas Cards
DESCRIPTION:This is the last day to return completed Christmas card designs and payments to the Preschool.  If you have not had a form sent home\, please let us know.
URL:https://pcfpreschool.co.uk/event/completed-christmas-cards/
ATTACH;FMTTYPE=image/jpeg:https://pcfpreschool.co.uk/wp-content/uploads/2023/09/AdobeStock_614725551-scaled.jpeg
END:VEVENT
BEGIN:VEVENT
DTSTART;VALUE=DATE:20230907
DTEND;VALUE=DATE:20230908
DTSTAMP:20260424T000340
CREATED:20230809T084846Z
LAST-MODIFIED:20230809T084846Z
UID:15112-1694044800-1694131199@pcfpreschool.co.uk
SUMMARY:Welcome Back Children!
DESCRIPTION:The term begins for the children on Thursday 7th July 2023. \nAll dates are subject to change – as much notice as possible will always be provided for date changes.
URL:https://pcfpreschool.co.uk/event/welcome-back-children/
ATTACH;FMTTYPE=image/jpeg:https://pcfpreschool.co.uk/wp-content/uploads/2023/08/AdobeStock_246604446-scaled.jpeg
END:VEVENT
BEGIN:VEVENT
DTSTART;VALUE=DATE:20230906
DTEND;VALUE=DATE:20230907
DTSTAMP:20260424T000340
CREATED:20230214T134709Z
LAST-MODIFIED:20230214T140648Z
UID:14840-1693958400-1694044799@pcfpreschool.co.uk
SUMMARY:Staff inset day
DESCRIPTION:Children are welcomed back into the preschool on Thursday 7th September 2023. \n  \nAll dates are subject to change – as much notice as possible will always be provided for date changes.
URL:https://pcfpreschool.co.uk/event/staff-inset-day/
CATEGORIES:Family
ATTACH;FMTTYPE=image/jpeg:https://pcfpreschool.co.uk/wp-content/uploads/2023/01/No-school.jpg
END:VEVENT
BEGIN:VEVENT
DTSTART;VALUE=DATE:20230719
DTEND;VALUE=DATE:20230720
DTSTAMP:20260424T000340
CREATED:20230214T103740Z
LAST-MODIFIED:20230214T133317Z
UID:14821-1689724800-1689811199@pcfpreschool.co.uk
SUMMARY:Big Robin & Squirrels room - Parents welcome
DESCRIPTION:Parents welcome from 11.45am to say goodbye to the Preschool staff and children before Summer. \n  \nAll dates are subject to change – as much notice as possible will always be provided for date changes.
URL:https://pcfpreschool.co.uk/event/big-robin-squirrels-room-parents-welcome/
CATEGORIES:Family
ATTACH;FMTTYPE=image/jpeg:https://pcfpreschool.co.uk/wp-content/uploads/2023/02/BR.jpg
END:VEVENT
BEGIN:VEVENT
DTSTART;VALUE=DATE:20230718
DTEND;VALUE=DATE:20230719
DTSTAMP:20260424T000340
CREATED:20230214T103605Z
LAST-MODIFIED:20230214T133335Z
UID:14819-1689638400-1689724799@pcfpreschool.co.uk
SUMMARY:Little Robin Room - Parents welcome
DESCRIPTION:Parents welcome from 11.45am to say goodbye to the Preschool staff and children before Summer. \n  \nAll dates are subject to change – as much notice as possible will always be provided for date changes.
URL:https://pcfpreschool.co.uk/event/little-robin-room-parents-welcome/
CATEGORIES:Family
ATTACH;FMTTYPE=image/jpeg:https://pcfpreschool.co.uk/wp-content/uploads/2023/02/LR-.jpg
END:VEVENT
BEGIN:VEVENT
DTSTART;VALUE=DATE:20230717
DTEND;VALUE=DATE:20230718
DTSTAMP:20260424T000340
CREATED:20230130T173422Z
LAST-MODIFIED:20230214T133350Z
UID:14722-1689552000-1689638399@pcfpreschool.co.uk
SUMMARY:Squirrel and Big Robins Room Party Day
DESCRIPTION:All dates are subject to change – as much notice as possible will always be provided for date changes.
URL:https://pcfpreschool.co.uk/event/squirrel-room-party-day/
CATEGORIES:Family
ATTACH;FMTTYPE=image/jpeg:https://pcfpreschool.co.uk/wp-content/uploads/2023/01/party-big.jpg
END:VEVENT
BEGIN:VEVENT
DTSTART;VALUE=DATE:20230713
DTEND;VALUE=DATE:20230714
DTSTAMP:20260424T000340
CREATED:20230130T173351Z
LAST-MODIFIED:20230214T133407Z
UID:14720-1689206400-1689292799@pcfpreschool.co.uk
SUMMARY:Little Robin Party Day
DESCRIPTION:All dates are subject to change – as much notice as possible will always be provided for date changes.
URL:https://pcfpreschool.co.uk/event/little-robin-party-day/
CATEGORIES:Family
ATTACH;FMTTYPE=image/jpeg:https://pcfpreschool.co.uk/wp-content/uploads/2023/01/party.jpg
END:VEVENT
BEGIN:VEVENT
DTSTART;VALUE=DATE:20230710
DTEND;VALUE=DATE:20230715
DTSTAMP:20260424T000340
CREATED:20230214T103413Z
LAST-MODIFIED:20230214T130246Z
UID:14817-1688947200-1689379199@pcfpreschool.co.uk
SUMMARY:Big Robin room team game week
DESCRIPTION:Information to follow – pictures/ videos will be shared via Tapestry. \n  \n\nAll dates are subject to change – as much notice as possible will always be provided for date changes.
URL:https://pcfpreschool.co.uk/event/big-robin-room-team-game-week/
CATEGORIES:Family
ATTACH;FMTTYPE=image/jpeg:https://pcfpreschool.co.uk/wp-content/uploads/2023/01/egg-and-spoon.jpg
END:VEVENT
END:VCALENDAR