BEGIN:VCALENDAR
VERSION:2.0
PRODID:-//PCF Preschool - ECPv6.15.1.1//NONSGML v1.0//EN
CALSCALE:GREGORIAN
METHOD:PUBLISH
X-ORIGINAL-URL:https://pcfpreschool.co.uk
X-WR-CALDESC:Events for PCF Preschool
REFRESH-INTERVAL;VALUE=DURATION:PT1H
X-Robots-Tag:noindex
X-PUBLISHED-TTL:PT1H
BEGIN:VTIMEZONE
TZID:UTC
BEGIN:STANDARD
TZOFFSETFROM:+0000
TZOFFSETTO:+0000
TZNAME:UTC
DTSTART:20260101T000000
END:STANDARD
END:VTIMEZONE
BEGIN:VEVENT
DTSTART;VALUE=DATE:20260402
DTEND;VALUE=DATE:20260403
DTSTAMP:20260423T210240
CREATED:20250527T173552Z
LAST-MODIFIED:20250527T175836Z
UID:15572-1775088000-1775174399@pcfpreschool.co.uk
SUMMARY:Term 4 Ends
DESCRIPTION:It’s the last day of term 4 for our preschool children.  We hope that you have enjoyed the term!
URL:https://pcfpreschool.co.uk/event/term-4-ends-3/
CATEGORIES:Family
ATTACH;FMTTYPE=image/jpeg:https://pcfpreschool.co.uk/wp-content/uploads/2024/09/2.jpg
END:VEVENT
BEGIN:VEVENT
DTSTART;VALUE=DATE:20260403
DTEND;VALUE=DATE:20260418
DTSTAMP:20260423T210240
CREATED:20250527T174714Z
LAST-MODIFIED:20250527T174714Z
UID:15590-1775174400-1776470399@pcfpreschool.co.uk
SUMMARY:Easter Break
DESCRIPTION:
URL:https://pcfpreschool.co.uk/event/easter-break-2/
CATEGORIES:Family
ATTACH;FMTTYPE=image/jpeg:https://pcfpreschool.co.uk/wp-content/uploads/2023/01/No-school.jpg
END:VEVENT
BEGIN:VEVENT
DTSTART;VALUE=DATE:20260420
DTEND;VALUE=DATE:20260421
DTSTAMP:20260423T210240
CREATED:20250527T173642Z
LAST-MODIFIED:20250527T175154Z
UID:15574-1776643200-1776729599@pcfpreschool.co.uk
SUMMARY:Term 5 Begins
DESCRIPTION:We welcome our preschool children back for Term 5!
URL:https://pcfpreschool.co.uk/event/term-5-begins/
CATEGORIES:Family
ATTACH;FMTTYPE=image/jpeg:https://pcfpreschool.co.uk/wp-content/uploads/2024/09/1.jpg
END:VEVENT
BEGIN:VEVENT
DTSTART;VALUE=DATE:20260522
DTEND;VALUE=DATE:20260523
DTSTAMP:20260423T210240
CREATED:20250527T173728Z
LAST-MODIFIED:20250527T175904Z
UID:15576-1779408000-1779494399@pcfpreschool.co.uk
SUMMARY:Term 5 Ends
DESCRIPTION:It’s the last day of term 5 for our preschool children.  We hope that you have enjoyed the term!
URL:https://pcfpreschool.co.uk/event/term-5-ends-2/
CATEGORIES:Family
ATTACH;FMTTYPE=image/jpeg:https://pcfpreschool.co.uk/wp-content/uploads/2024/09/2.jpg
END:VEVENT
BEGIN:VEVENT
DTSTART;VALUE=DATE:20260525
DTEND;VALUE=DATE:20260530
DTSTAMP:20260423T210240
CREATED:20250527T174804Z
LAST-MODIFIED:20250527T174804Z
UID:15592-1779667200-1780099199@pcfpreschool.co.uk
SUMMARY:Half Term
DESCRIPTION:
URL:https://pcfpreschool.co.uk/event/half-term-10/
CATEGORIES:Family
ATTACH;FMTTYPE=image/jpeg:https://pcfpreschool.co.uk/wp-content/uploads/2023/01/No-school.jpg
END:VEVENT
BEGIN:VEVENT
DTSTART;VALUE=DATE:20260602
DTEND;VALUE=DATE:20260603
DTSTAMP:20260423T210240
CREATED:20250527T173816Z
LAST-MODIFIED:20250527T175127Z
UID:15578-1780358400-1780444799@pcfpreschool.co.uk
SUMMARY:Term 6 Begins
DESCRIPTION:We welcome our preschool children back for Term 6!
URL:https://pcfpreschool.co.uk/event/term-6-begins/
CATEGORIES:Family
ATTACH;FMTTYPE=image/jpeg:https://pcfpreschool.co.uk/wp-content/uploads/2024/09/1.jpg
END:VEVENT
BEGIN:VEVENT
DTSTART;VALUE=DATE:20260716
DTEND;VALUE=DATE:20260717
DTSTAMP:20260423T210240
CREATED:20250527T173902Z
LAST-MODIFIED:20250527T175436Z
UID:15580-1784160000-1784246399@pcfpreschool.co.uk
SUMMARY:Term 6 Ends
DESCRIPTION:It’s the last day of term 6 for our preschool children.  We hope that you have enjoyed the last term!
URL:https://pcfpreschool.co.uk/event/term-6-ends-2/
CATEGORIES:Family
ATTACH;FMTTYPE=image/jpeg:https://pcfpreschool.co.uk/wp-content/uploads/2024/09/2.jpg
END:VEVENT
END:VCALENDAR