BEGIN:VCALENDAR
VERSION:2.0
PRODID:-//PCF Preschool - ECPv6.15.1.1//NONSGML v1.0//EN
CALSCALE:GREGORIAN
METHOD:PUBLISH
X-WR-CALNAME:PCF Preschool
X-ORIGINAL-URL:https://pcfpreschool.co.uk
X-WR-CALDESC:Events for PCF Preschool
REFRESH-INTERVAL;VALUE=DURATION:PT1H
X-Robots-Tag:noindex
X-PUBLISHED-TTL:PT1H
BEGIN:VTIMEZONE
TZID:UTC
BEGIN:STANDARD
TZOFFSETFROM:+0000
TZOFFSETTO:+0000
TZNAME:UTC
DTSTART:20230101T000000
END:STANDARD
END:VTIMEZONE
BEGIN:VEVENT
DTSTART;VALUE=DATE:20230320
DTEND;VALUE=DATE:20230324
DTSTAMP:20260424T002850
CREATED:20230130T170635Z
LAST-MODIFIED:20230214T105719Z
UID:14688-1679270400-1679615999@pcfpreschool.co.uk
SUMMARY:Community easter egg hunt
DESCRIPTION:Local community easter egg hunt for children\, Easter Raffle tickets will be sold. \nAll dates are subject to change – as much notice as possible will always be provided for date changes.
URL:https://pcfpreschool.co.uk/event/community-easter-egg-hunt/
CATEGORIES:Family
ATTACH;FMTTYPE=image/jpeg:https://pcfpreschool.co.uk/wp-content/uploads/2023/01/Easter-hunt.jpg
END:VEVENT
BEGIN:VEVENT
DTSTART;VALUE=DATE:20230320
DTEND;VALUE=DATE:20230321
DTSTAMP:20260424T002850
CREATED:20230130T170730Z
LAST-MODIFIED:20230214T134210Z
UID:14690-1679270400-1679356799@pcfpreschool.co.uk
SUMMARY:Big Robin Easter Party
DESCRIPTION:All dates are subject to change – as much notice as possible will always be provided for date changes.
URL:https://pcfpreschool.co.uk/event/big-robin-easter-party/
CATEGORIES:Family
ATTACH;FMTTYPE=image/jpeg:https://pcfpreschool.co.uk/wp-content/uploads/2023/01/AdobeStock_327166972-scaled.jpeg
END:VEVENT
BEGIN:VEVENT
DTSTART;VALUE=DATE:20230313
DTEND;VALUE=DATE:20230318
DTSTAMP:20260424T002850
CREATED:20230214T103027Z
LAST-MODIFIED:20230214T124208Z
UID:14814-1678665600-1679097599@pcfpreschool.co.uk
SUMMARY:Parent consultation phone calls
DESCRIPTION:Appointment slots are to be issued in advance. \n  \n\nAll dates are subject to change – as much notice as possible will always be provided for date changes.
URL:https://pcfpreschool.co.uk/event/parent-consultation-phone-calls/
CATEGORIES:Family
ATTACH;FMTTYPE=image/jpeg:https://pcfpreschool.co.uk/wp-content/uploads/2023/02/phone1.jpg
END:VEVENT
BEGIN:VEVENT
DTSTART;VALUE=DATE:20230302
DTEND;VALUE=DATE:20230303
DTSTAMP:20260424T002850
CREATED:20230130T170436Z
LAST-MODIFIED:20230214T134253Z
UID:14686-1677715200-1677801599@pcfpreschool.co.uk
SUMMARY:World Book Day
DESCRIPTION:World Book Day\, children can dress as their favourite book character and share their favourite stories at Preschool. \nAll dates are subject to change – as much notice as possible will always be provided for date changes.
URL:https://pcfpreschool.co.uk/event/world-book-day/
CATEGORIES:Family
ATTACH;FMTTYPE=image/jpeg:https://pcfpreschool.co.uk/wp-content/uploads/2023/01/wbd.jpg
END:VEVENT
BEGIN:VEVENT
DTSTART;VALUE=DATE:20230213
DTEND;VALUE=DATE:20230218
DTSTAMP:20260424T002850
CREATED:20230121T014813Z
LAST-MODIFIED:20230214T132251Z
UID:14324-1676246400-1676678399@pcfpreschool.co.uk
SUMMARY:February Half Term
DESCRIPTION:On the 10th February\, we will break for the first half term of 2023\, meaning PCF preschool will be closed between the 13-17th February.
URL:https://pcfpreschool.co.uk/event/end-of-term-party/
CATEGORIES:Family,Fun,Kindergarten
ATTACH;FMTTYPE=image/jpeg:https://pcfpreschool.co.uk/wp-content/uploads/2023/01/AdobeStock_84963329-scaled.jpeg
ORGANIZER;CN="Nick Sims":MAILTO:sims@example.com
END:VEVENT
END:VCALENDAR