BEGIN:VCALENDAR
VERSION:2.0
PRODID:-//PCF Preschool - ECPv6.15.1.1//NONSGML v1.0//EN
CALSCALE:GREGORIAN
METHOD:PUBLISH
X-ORIGINAL-URL:https://pcfpreschool.co.uk
X-WR-CALDESC:Events for PCF Preschool
REFRESH-INTERVAL;VALUE=DURATION:PT1H
X-Robots-Tag:noindex
X-PUBLISHED-TTL:PT1H
BEGIN:VTIMEZONE
TZID:UTC
BEGIN:STANDARD
TZOFFSETFROM:+0000
TZOFFSETTO:+0000
TZNAME:UTC
DTSTART:20260101T000000
END:STANDARD
END:VTIMEZONE
BEGIN:VEVENT
DTSTART;VALUE=DATE:20260716
DTEND;VALUE=DATE:20260717
DTSTAMP:20260423T225454
CREATED:20250527T173902Z
LAST-MODIFIED:20250527T175436Z
UID:15580-1784160000-1784246399@pcfpreschool.co.uk
SUMMARY:Term 6 Ends
DESCRIPTION:It’s the last day of term 6 for our preschool children.  We hope that you have enjoyed the last term!
URL:https://pcfpreschool.co.uk/event/term-6-ends-2/
CATEGORIES:Family
ATTACH;FMTTYPE=image/jpeg:https://pcfpreschool.co.uk/wp-content/uploads/2024/09/2.jpg
END:VEVENT
END:VCALENDAR