BEGIN:VCALENDAR
VERSION:2.0
PRODID:-//PCF Preschool - ECPv6.15.1.1//NONSGML v1.0//EN
CALSCALE:GREGORIAN
METHOD:PUBLISH
X-WR-CALNAME:PCF Preschool
X-ORIGINAL-URL:https://pcfpreschool.co.uk
X-WR-CALDESC:Events for PCF Preschool
REFRESH-INTERVAL;VALUE=DURATION:PT1H
X-Robots-Tag:noindex
X-PUBLISHED-TTL:PT1H
BEGIN:VTIMEZONE
TZID:UTC
BEGIN:STANDARD
TZOFFSETFROM:+0000
TZOFFSETTO:+0000
TZNAME:UTC
DTSTART:20250101T000000
END:STANDARD
END:VTIMEZONE
BEGIN:VEVENT
DTSTART;VALUE=DATE:20250423
DTEND;VALUE=DATE:20250424
DTSTAMP:20260424T115250
CREATED:20240906T125417Z
LAST-MODIFIED:20240907T083616Z
UID:15351-1745366400-1745452799@pcfpreschool.co.uk
SUMMARY:Term 5 starts
DESCRIPTION:Term 5 starts for our preschool children!  We hope that you had a great Easter break!
URL:https://pcfpreschool.co.uk/event/term-5-starts/
CATEGORIES:Family
ATTACH;FMTTYPE=image/jpeg:https://pcfpreschool.co.uk/wp-content/uploads/2024/09/1.jpg
END:VEVENT
END:VCALENDAR