BEGIN:VCALENDAR
VERSION:2.0
PRODID:-//PCF Preschool - ECPv6.15.1.1//NONSGML v1.0//EN
CALSCALE:GREGORIAN
METHOD:PUBLISH
X-WR-CALNAME:PCF Preschool
X-ORIGINAL-URL:https://pcfpreschool.co.uk
X-WR-CALDESC:Events for PCF Preschool
REFRESH-INTERVAL;VALUE=DURATION:PT1H
X-Robots-Tag:noindex
X-PUBLISHED-TTL:PT1H
BEGIN:VTIMEZONE
TZID:UTC
BEGIN:STANDARD
TZOFFSETFROM:+0000
TZOFFSETTO:+0000
TZNAME:UTC
DTSTART:20250101T000000
END:STANDARD
END:VTIMEZONE
BEGIN:VEVENT
DTSTART;VALUE=DATE:20250407
DTEND;VALUE=DATE:20250422
DTSTAMP:20260424T115223
CREATED:20240906T125456Z
LAST-MODIFIED:20240907T083527Z
UID:15353-1743984000-1745279999@pcfpreschool.co.uk
SUMMARY:Easter holidays
DESCRIPTION:It’s the Easter Holidays!
URL:https://pcfpreschool.co.uk/event/easter-holidays/
CATEGORIES:Family
ATTACH;FMTTYPE=image/jpeg:https://pcfpreschool.co.uk/wp-content/uploads/2023/01/No-school.jpg
END:VEVENT
END:VCALENDAR