BEGIN:VCALENDAR
VERSION:2.0
PRODID:-//PCF Preschool - ECPv6.15.1.1//NONSGML v1.0//EN
CALSCALE:GREGORIAN
METHOD:PUBLISH
X-ORIGINAL-URL:https://pcfpreschool.co.uk
X-WR-CALDESC:Events for PCF Preschool
REFRESH-INTERVAL;VALUE=DURATION:PT1H
X-Robots-Tag:noindex
X-PUBLISHED-TTL:PT1H
BEGIN:VTIMEZONE
TZID:UTC
BEGIN:STANDARD
TZOFFSETFROM:+0000
TZOFFSETTO:+0000
TZNAME:UTC
DTSTART:20240101T000000
END:STANDARD
END:VTIMEZONE
BEGIN:VEVENT
DTSTART;VALUE=DATE:20240718
DTEND;VALUE=DATE:20240720
DTSTAMP:20260425T014225
CREATED:20230214T140508Z
LAST-MODIFIED:20230809T085310Z
UID:14859-1721260800-1721433599@pcfpreschool.co.uk
SUMMARY:Staff inset day
DESCRIPTION:Children will finish preschool for the summer holidays on Thursday 18th July 2024. \nAll dates are subject to change – as much notice as possible will always be provided for date changes.
URL:https://pcfpreschool.co.uk/event/staff-inset-day-4/
CATEGORIES:Family
ATTACH;FMTTYPE=image/jpeg:https://pcfpreschool.co.uk/wp-content/uploads/2023/01/No-school.jpg
END:VEVENT
END:VCALENDAR