BEGIN:VCALENDAR
VERSION:2.0
PRODID:-//PCF Preschool - ECPv6.15.1.1//NONSGML v1.0//EN
CALSCALE:GREGORIAN
METHOD:PUBLISH
X-WR-CALNAME:PCF Preschool
X-ORIGINAL-URL:https://pcfpreschool.co.uk
X-WR-CALDESC:Events for PCF Preschool
REFRESH-INTERVAL;VALUE=DURATION:PT1H
X-Robots-Tag:noindex
X-PUBLISHED-TTL:PT1H
BEGIN:VTIMEZONE
TZID:UTC
BEGIN:STANDARD
TZOFFSETFROM:+0000
TZOFFSETTO:+0000
TZNAME:UTC
DTSTART:20230101T000000
END:STANDARD
END:VTIMEZONE
BEGIN:VEVENT
DTSTART;VALUE=DATE:20230331
DTEND;VALUE=DATE:20230415
DTSTAMP:20260426T020857
CREATED:20230129T140844Z
LAST-MODIFIED:20230214T105215Z
UID:14612-1680220800-1681516799@pcfpreschool.co.uk
SUMMARY:Easter Holiday
DESCRIPTION:On Thursday the 30th March\, we will break for the end of term 4 – collection time for all children will be 12:15pm. Pcf preschool will be closed from the 31st March to the 14th April. Have a happy easter everyone!
URL:https://pcfpreschool.co.uk/event/term-4-ends/
CATEGORIES:Family
ATTACH;FMTTYPE=image/jpeg:https://pcfpreschool.co.uk/wp-content/uploads/2023/01/AdobeStock_84963329-scaled.jpeg
END:VEVENT
END:VCALENDAR