BEGIN:VCALENDAR
VERSION:2.0
PRODID:-//PCF Preschool - ECPv6.15.1.1//NONSGML v1.0//EN
CALSCALE:GREGORIAN
METHOD:PUBLISH
X-ORIGINAL-URL:https://pcfpreschool.co.uk
X-WR-CALDESC:Events for PCF Preschool
REFRESH-INTERVAL;VALUE=DURATION:PT1H
X-Robots-Tag:noindex
X-PUBLISHED-TTL:PT1H
BEGIN:VTIMEZONE
TZID:UTC
BEGIN:STANDARD
TZOFFSETFROM:+0000
TZOFFSETTO:+0000
TZNAME:UTC
DTSTART:20250101T000000
END:STANDARD
END:VTIMEZONE
BEGIN:VEVENT
DTSTART;VALUE=DATE:20250523
DTEND;VALUE=DATE:20250524
DTSTAMP:20260424T091144
CREATED:20240906T125526Z
LAST-MODIFIED:20240907T083700Z
UID:15355-1747958400-1748044799@pcfpreschool.co.uk
SUMMARY:Term 5 ends
DESCRIPTION:Term 5 ends today for our preschool children.  We hope that you have enjoyed Term 5!
URL:https://pcfpreschool.co.uk/event/term-5-ends/
CATEGORIES:Family
ATTACH;FMTTYPE=image/jpeg:https://pcfpreschool.co.uk/wp-content/uploads/2024/09/2.jpg
END:VEVENT
BEGIN:VEVENT
DTSTART;VALUE=DATE:20250526
DTEND;VALUE=DATE:20250531
DTSTAMP:20260424T091144
CREATED:20240906T125555Z
LAST-MODIFIED:20240907T083751Z
UID:15357-1748217600-1748649599@pcfpreschool.co.uk
SUMMARY:Half Term
DESCRIPTION:Its May Half Term!!
URL:https://pcfpreschool.co.uk/event/half-term-7/
CATEGORIES:Family
ATTACH;FMTTYPE=image/jpeg:https://pcfpreschool.co.uk/wp-content/uploads/2023/01/No-school.jpg
END:VEVENT
END:VCALENDAR