BEGIN:VCALENDAR
VERSION:2.0
PRODID:-//PCF Preschool - ECPv6.15.1.1//NONSGML v1.0//EN
CALSCALE:GREGORIAN
METHOD:PUBLISH
X-ORIGINAL-URL:https://pcfpreschool.co.uk
X-WR-CALDESC:Events for PCF Preschool
REFRESH-INTERVAL;VALUE=DURATION:PT1H
X-Robots-Tag:noindex
X-PUBLISHED-TTL:PT1H
BEGIN:VTIMEZONE
TZID:UTC
BEGIN:STANDARD
TZOFFSETFROM:+0000
TZOFFSETTO:+0000
TZNAME:UTC
DTSTART:20240101T000000
END:STANDARD
END:VTIMEZONE
BEGIN:VEVENT
DTSTART;VALUE=DATE:20241219
DTEND;VALUE=DATE:20250104
DTSTAMP:20260424T145253
CREATED:20240906T125058Z
LAST-MODIFIED:20240907T082926Z
UID:15338-1734566400-1735948799@pcfpreschool.co.uk
SUMMARY:Christmas Holiday
DESCRIPTION:Wishing our preschool families a Merry Christmas and Happy New Year! \nChildren will break up from preschool on Thursday 19th December.  We welcome them back into preschool on Monday 6th January 2025. \nAll dates are subject to change – as much notice as possible will always be provided for date changes.
URL:https://pcfpreschool.co.uk/event/christmas-holiday-2/
CATEGORIES:Family
ATTACH;FMTTYPE=image/jpeg:https://pcfpreschool.co.uk/wp-content/uploads/2023/02/xmas.jpg
END:VEVENT
BEGIN:VEVENT
DTSTART;VALUE=DATE:20250106
DTEND;VALUE=DATE:20250107
DTSTAMP:20260424T145253
CREATED:20240906T125137Z
LAST-MODIFIED:20240907T083012Z
UID:15340-1736121600-1736207999@pcfpreschool.co.uk
SUMMARY:Term 3 starts
DESCRIPTION:Term 3 starts today!  We hope that you have had a great Christmas break!
URL:https://pcfpreschool.co.uk/event/term-3-starts/
CATEGORIES:Family
ATTACH;FMTTYPE=image/jpeg:https://pcfpreschool.co.uk/wp-content/uploads/2024/09/1.jpg
END:VEVENT
END:VCALENDAR